BEGIN:VCALENDAR
VERSION:2.0
PRODID:-//Heritage Eagle Bend Golf Club - ECPv6.15.18//NONSGML v1.0//EN
CALSCALE:GREGORIAN
METHOD:PUBLISH
X-WR-CALNAME:Heritage Eagle Bend Golf Club
X-ORIGINAL-URL:https://www.heritageeaglebend.com
X-WR-CALDESC:Events for Heritage Eagle Bend Golf Club
REFRESH-INTERVAL;VALUE=DURATION:PT1H
X-Robots-Tag:noindex
X-PUBLISHED-TTL:PT1H
BEGIN:VTIMEZONE
TZID:America/Denver
BEGIN:DAYLIGHT
TZOFFSETFROM:-0700
TZOFFSETTO:-0600
TZNAME:MDT
DTSTART:20220313T090000
END:DAYLIGHT
BEGIN:STANDARD
TZOFFSETFROM:-0600
TZOFFSETTO:-0700
TZNAME:MST
DTSTART:20221106T080000
END:STANDARD
BEGIN:DAYLIGHT
TZOFFSETFROM:-0700
TZOFFSETTO:-0600
TZNAME:MDT
DTSTART:20230312T090000
END:DAYLIGHT
BEGIN:STANDARD
TZOFFSETFROM:-0600
TZOFFSETTO:-0700
TZNAME:MST
DTSTART:20231105T080000
END:STANDARD
BEGIN:DAYLIGHT
TZOFFSETFROM:-0700
TZOFFSETTO:-0600
TZNAME:MDT
DTSTART:20240310T090000
END:DAYLIGHT
BEGIN:STANDARD
TZOFFSETFROM:-0600
TZOFFSETTO:-0700
TZNAME:MST
DTSTART:20241103T080000
END:STANDARD
END:VTIMEZONE
BEGIN:VEVENT
DTSTART;TZID=America/Denver:20230929T080000
DTEND;TZID=America/Denver:20230929T150000
DTSTAMP:20260423T012857
CREATED:20230929T152127Z
LAST-MODIFIED:20230929T152127Z
UID:10000004-1695974400-1695999600@www.heritageeaglebend.com
SUMMARY:MJM Scholarship Golf Tournament
DESCRIPTION:
URL:https://www.heritageeaglebend.com/calendar/mjm-scholarship-golf-tournament/
END:VEVENT
END:VCALENDAR